BEGIN:VCALENDAR
VERSION:2.0
PRODID:-//hacksw/handcal//NONSGML v1.0//EN
BEGIN:VEVENT
SUMMARY:Interdepartementaux 14/50  CJS a CAEN
UID:3fa9f85c-f5a1-4900-9799-3665d272d473
DTSTART:20260530T220000Z
DTEND:20260531T220000Z
LOCATION:Localisation   
CATEGORIES:Sportif
STATUS:
URL;VALUE=URI:https://www.bacoutances-macs.com/evenements/2026/05/31/interdepartementaux-1450-cjs-a-caen-2439676
END:VEVENT
END:VCALENDAR
