BEGIN:VCALENDAR
VERSION:2.0
PRODID:-//hacksw/handcal//NONSGML v1.0//EN
BEGIN:VEVENT
SUMMARY:2eme tour interclubs N2 (lieu a determiner)
UID:0ee5005a-5453-438a-b820-c09db47f149f
DTSTART:20260517T060000Z
DTEND:20260517T170000Z
LOCATION:Localisation   
CATEGORIES:Sportif
STATUS:
DESCRIPTION:<p>Le second tour des championnats interclubs ce
 disputera le DIMANCHE 17 MAI dans un lieu a determiner en fonction
 des resultats obtenus le 2 mai a Querqueville.</p>
 
 <p>La presence de
 tous les athletes en mesure de participer a l'une des 76 epreuves
 sera INDISPENSABLE.</p>
 
 <p><span style="color:#e74c3c;"><strong>Des
 a present, bloquez cette date, elle est particulierement importante
 pour le club.</strong></span></p>
URL;VALUE=URI:https://www.bacoutances-macs.com/evenements/2026/05/17/2eme-tour-interclubs-n2-lieu-a-determiner-2439332
END:VEVENT
END:VCALENDAR
