BEGIN:VCALENDAR
VERSION:2.0
PRODID:-//hacksw/handcal//NONSGML v1.0//EN
BEGIN:VEVENT
SUMMARY:EQUIP'ATHLE benjamins-minimes a Tourlaville
UID:31409c9d-8508-4596-b816-5a6f1efa0d0e
DTSTART:20260509T220000Z
DTEND:20260510T220000Z
LOCATION:Localisation   
CATEGORIES:Sportif
STATUS:
URL;VALUE=URI:https://www.bacoutances-macs.com/evenements/2026/05/10/equipathle-benjamins-minimes-a-tourlaville-2439672
END:VEVENT
END:VCALENDAR
