BEGIN:VCALENDAR
VERSION:2.0
PRODID:-//hacksw/handcal//NONSGML v1.0//EN
BEGIN:VEVENT
SUMMARY:1er tour Interclubs  a QUERQUEVILLE
UID:6bafed6c-d19c-4aef-a663-06df532aecd9
DTSTART:20260502T080000Z
DTEND:20260502T170000Z
LOCATION:Localisation   
CATEGORIES:Sportif
STATUS:
DESCRIPTION:<p>Le 1er tour des championnats interclubs, qui concerne
 les cadets et plus, aura lieu le <span
 style="color:#ff3300;"><em><strong>SAMEDI 2 MAI 2026 a
 QUERQUEVILLE</strong></em></span><span
 style="color:#8e44ad;"><em><strong>.</strong></em></span></p>
 
 <p>Le
 second tour, le plus important pour le MACS, se deroulera
 le<strong><u> 17 mai</u></strong> (lieu a definir en fonction du
 resultat du 1er tour).</p>
 
 <p>Des a present retenez ces deux dates
 ou <u><strong>TOUS LES MEMBRES</strong></u> du club devront etre
 presents.</p>
URL;VALUE=URI:https://www.bacoutances-macs.com/evenements/2026/05/02/1er-tour-interclubs-a-querqueville-2439331
END:VEVENT
END:VCALENDAR
