BEGIN:VCALENDAR
VERSION:2.0
PRODID:-//hacksw/handcal//NONSGML v1.0//EN
BEGIN:VEVENT
SUMMARY:Epreuves Ouvertes a Bayeux
UID:6c110a56-74a8-4937-93eb-5d3099c1a5f6
DTSTART:20260424T220000Z
DTEND:20260426T220000Z
LOCATION:Localisation   
CATEGORIES:Sportif
STATUS:
URL;VALUE=URI:https://www.bacoutances-macs.com/evenements/2026/04/25/epreuves-ouvertes-a-bayeux-2439670
END:VEVENT
END:VCALENDAR
